Package: scGraphVerse Version: 0.99.19 Command: /home/biocbuild/bbs-3.22-bioc/R/bin/R CMD INSTALL scGraphVerse StartedAt: 2025-10-17 15:20:16 -0400 (Fri, 17 Oct 2025) EndedAt: 2025-10-17 15:20:45 -0400 (Fri, 17 Oct 2025) EllapsedTime: 29.0 seconds RetCode: 0 Status: OK