Package: scGPS Version: 1.23.0 Command: /home/biocbuild/bbs-3.22-bioc/R/bin/R CMD INSTALL scGPS StartedAt: 2025-10-08 15:34:00 -0400 (Wed, 08 Oct 2025) EndedAt: 2025-10-08 15:34:58 -0400 (Wed, 08 Oct 2025) EllapsedTime: 58.0 seconds RetCode: 0 Status: OK