Package: scGPS Version: 1.23.0 Command: /home/biocbuild/bbs-3.22-bioc/R/bin/R CMD build --keep-empty-dirs --no-resave-data --md5 scGPS StartedAt: 2025-10-08 20:16:22 -0400 (Wed, 08 Oct 2025) EndedAt: 2025-10-08 20:22:07 -0400 (Wed, 08 Oct 2025) EllapsedTime: 345.3 seconds RetCode: 0 Status: OK PackageFile: scGPS_1.23.0.tar.gz PackageFileSize: 2.024 MiB