Package: scFeatures Version: 1.11.0 Command: /home/biocbuild/bbs-3.23-bioc/R/bin/R CMD INSTALL scFeatures StartedAt: 2025-11-16 16:01:06 -0500 (Sun, 16 Nov 2025) EndedAt: 2025-11-16 16:02:20 -0500 (Sun, 16 Nov 2025) EllapsedTime: 73.8 seconds RetCode: 0 Status: OK