Package: scFeatures Version: 1.11.0 Command: /home/biocbuild/bbs-3.23-bioc/R/bin/R CMD build --keep-empty-dirs --no-resave-data scFeatures StartedAt: 2025-11-16 19:57:41 -0500 (Sun, 16 Nov 2025) EndedAt: 2025-11-16 20:00:06 -0500 (Sun, 16 Nov 2025) EllapsedTime: 145.1 seconds RetCode: 0 Status: OK PackageFile: scFeatures_1.11.0.tar.gz PackageFileSize: 2.952 MiB