Package: scFeatures Version: 1.9.0 Command: /Library/Frameworks/R.framework/Resources/bin/R CMD INSTALL scFeatures StartedAt: 2025-10-14 15:32:46 -0400 (Tue, 14 Oct 2025) EndedAt: 2025-10-14 15:33:16 -0400 (Tue, 14 Oct 2025) EllapsedTime: 30.4 seconds RetCode: 0 Status: OK