Package: scFeatures Version: 1.9.0 Command: /Library/Frameworks/R.framework/Resources/bin/R CMD build --keep-empty-dirs --no-resave-data scFeatures StartedAt: 2025-10-14 17:38:34 -0400 (Tue, 14 Oct 2025) EndedAt: 2025-10-14 17:39:35 -0400 (Tue, 14 Oct 2025) EllapsedTime: 60.7 seconds RetCode: 0 Status: OK PackageFile: scFeatures_1.9.0.tar.gz PackageFileSize: 2.929 MiB