Package: scDotPlot Version: 1.5.0 Command: /home/biocbuild/bbs-3.23-bioc/R/bin/R CMD INSTALL scDotPlot StartedAt: 2025-11-25 15:55:07 -0500 (Tue, 25 Nov 2025) EndedAt: 2025-11-25 15:55:47 -0500 (Tue, 25 Nov 2025) EllapsedTime: 40.0 seconds RetCode: 0 Status: OK