Package: scDotPlot Version: 1.5.0 Command: /home/biocbuild/bbs-3.23-bioc/R/bin/R CMD build --keep-empty-dirs --no-resave-data scDotPlot StartedAt: 2025-11-25 19:52:28 -0500 (Tue, 25 Nov 2025) EndedAt: 2025-11-25 19:54:11 -0500 (Tue, 25 Nov 2025) EllapsedTime: 103.2 seconds RetCode: 0 Status: OK PackageFile: scDotPlot_1.5.0.tar.gz PackageFileSize: 1.874 MiB