Package: scDotPlot Version: 1.5.0 Command: /Library/Frameworks/R.framework/Resources/bin/R CMD INSTALL scDotPlot StartedAt: 2025-11-21 15:52:25 -0500 (Fri, 21 Nov 2025) EndedAt: 2025-11-21 15:53:23 -0500 (Fri, 21 Nov 2025) EllapsedTime: 57.3 seconds RetCode: 0 Status: OK