Package: scDotPlot Version: 1.5.0 Command: /Library/Frameworks/R.framework/Resources/bin/R CMD build --keep-empty-dirs --no-resave-data scDotPlot StartedAt: 2025-11-21 18:33:23 -0500 (Fri, 21 Nov 2025) EndedAt: 2025-11-21 18:35:23 -0500 (Fri, 21 Nov 2025) EllapsedTime: 119.6 seconds RetCode: 0 Status: OK PackageFile: scDotPlot_1.5.0.tar.gz PackageFileSize: 1.971 MiB