Package: scDesign3 Version: 1.9.0 Command: /home/biocbuild/bbs-3.23-bioc/R/bin/R CMD INSTALL scDesign3 StartedAt: 2025-11-23 15:38:47 -0500 (Sun, 23 Nov 2025) EndedAt: 2025-11-23 15:38:56 -0500 (Sun, 23 Nov 2025) EllapsedTime: 9.0 seconds RetCode: 0 Status: OK