Package: scDesign3 Version: 1.9.0 Command: /Library/Frameworks/R.framework/Resources/bin/R CMD build --keep-empty-dirs --no-resave-data scDesign3 StartedAt: 2025-11-18 18:31:22 -0500 (Tue, 18 Nov 2025) EndedAt: 2025-11-18 18:32:44 -0500 (Tue, 18 Nov 2025) EllapsedTime: 82.0 seconds RetCode: 0 Status: OK PackageFile: scDesign3_1.9.0.tar.gz PackageFileSize: 1.128 MiB