Package: scDesign3 Version: 1.9.0 Command: rm -rf scDesign3.buildbin-libdir && mkdir scDesign3.buildbin-libdir && /Users/biocbuild/BBS/utils/build-universal.sh scDesign3_1.9.0.tar.gz /Library/Frameworks/R.framework/Resources/bin/R scDesign3.buildbin-libdir StartedAt: 2025-11-19 01:50:41 -0500 (Wed, 19 Nov 2025) EndedAt: 2025-11-19 01:51:01 -0500 (Wed, 19 Nov 2025) EllapsedTime: 19.4 seconds RetCode: 0 Status: OK PackageFile: scDesign3_1.9.0.tgz PackageFileSize: 1.271 MiB