Package: scDesign3 Version: 1.9.0 Command: /Library/Frameworks/R.framework/Resources/bin/R CMD INSTALL scDesign3 StartedAt: 2025-11-12 15:36:46 -0500 (Wed, 12 Nov 2025) EndedAt: 2025-11-12 15:36:50 -0500 (Wed, 12 Nov 2025) EllapsedTime: 4.5 seconds RetCode: 0 Status: OK