Package: scDblFinder Version: 1.23.4 Command: /home/biocbuild/bbs-3.22-bioc/R/bin/R CMD INSTALL scDblFinder StartedAt: 2025-10-01 16:10:55 -0400 (Wed, 01 Oct 2025) EndedAt: 2025-10-01 16:11:51 -0400 (Wed, 01 Oct 2025) EllapsedTime: 56.4 seconds RetCode: 0 Status: OK