Package: scDblFinder Version: 1.23.4 Command: /home/biocbuild/bbs-3.22-bioc/R/bin/R CMD build --keep-empty-dirs --no-resave-data --md5 scDblFinder StartedAt: 2025-10-01 20:12:49 -0400 (Wed, 01 Oct 2025) EndedAt: 2025-10-01 20:15:24 -0400 (Wed, 01 Oct 2025) EllapsedTime: 155.2 seconds RetCode: 0 Status: OK PackageFile: scDblFinder_1.23.4.tar.gz PackageFileSize: 2.147 MiB