Package: scDDboost Version: 1.13.0 Command: /Library/Frameworks/R.framework/Resources/bin/R CMD INSTALL scDDboost StartedAt: 2025-11-17 15:20:00 -0500 (Mon, 17 Nov 2025) EndedAt: 2025-11-17 15:21:12 -0500 (Mon, 17 Nov 2025) EllapsedTime: 71.9 seconds RetCode: 0 Status: OK