Package: scDDboost Version: 1.13.0 Command: /Library/Frameworks/R.framework/Resources/bin/R CMD build --keep-empty-dirs --no-resave-data scDDboost StartedAt: 2025-11-16 23:30:29 -0500 (Sun, 16 Nov 2025) EndedAt: 2025-11-16 23:32:16 -0500 (Sun, 16 Nov 2025) EllapsedTime: 107.1 seconds RetCode: 0 Status: OK PackageFile: scDDboost_1.13.0.tar.gz PackageFileSize: 853 KiB