Package: scDDboost Version: 1.13.0 Command: rm -rf scDDboost.buildbin-libdir && mkdir scDDboost.buildbin-libdir && /Users/biocbuild/BBS/utils/build-universal.sh scDDboost_1.13.0.tar.gz /Library/Frameworks/R.framework/Resources/bin/R scDDboost.buildbin-libdir StartedAt: 2025-11-17 07:15:58 -0500 (Mon, 17 Nov 2025) EndedAt: 2025-11-17 07:17:16 -0500 (Mon, 17 Nov 2025) EllapsedTime: 77.1 seconds RetCode: 0 Status: OK PackageFile: scDDboost_1.13.0.tgz PackageFileSize: 996.2 KiB