Package: scDDboost Version: 1.13.0 Command: rm -rf scDDboost.buildbin-libdir && mkdir scDDboost.buildbin-libdir && /Users/biocbuild/BBS/utils/build-universal.sh scDDboost_1.13.0.tar.gz /Library/Frameworks/R.framework/Resources/bin/R scDDboost.buildbin-libdir StartedAt: 2025-11-12 21:09:58 -0500 (Wed, 12 Nov 2025) EndedAt: 2025-11-12 21:10:24 -0500 (Wed, 12 Nov 2025) EllapsedTime: 25.5 seconds RetCode: 0 Status: OK PackageFile: scDDboost_1.13.0.tgz PackageFileSize: 978.3 KiB