Package: scClassify Version: 1.21.0 Command: /Library/Frameworks/R.framework/Resources/bin/R CMD build --keep-empty-dirs --no-resave-data scClassify StartedAt: 2025-10-22 17:39:13 -0400 (Wed, 22 Oct 2025) EndedAt: 2025-10-22 17:40:05 -0400 (Wed, 22 Oct 2025) EllapsedTime: 51.5 seconds RetCode: 0 Status: OK PackageFile: scClassify_1.21.0.tar.gz PackageFileSize: 2.91 MiB