Package: scClassify Version: 1.21.0 Command: rm -rf scClassify.buildbin-libdir && mkdir scClassify.buildbin-libdir && /Users/biocbuild/BBS/utils/build-universal.sh scClassify_1.21.0.tar.gz /Library/Frameworks/R.framework/Resources/bin/R scClassify.buildbin-libdir StartedAt: 2025-10-23 23:25:35 -0400 (Thu, 23 Oct 2025) EndedAt: 2025-10-23 23:25:52 -0400 (Thu, 23 Oct 2025) EllapsedTime: 17.3 seconds RetCode: 0 Status: OK PackageFile: scClassify_1.21.0.tgz PackageFileSize: 3.338 MiB