Package: scCB2 Version: 1.19.0 Command: /home/biocbuild/bbs-3.22-bioc/R/bin/R CMD INSTALL scCB2 StartedAt: 2025-10-02 15:37:42 -0400 (Thu, 02 Oct 2025) EndedAt: 2025-10-02 15:38:23 -0400 (Thu, 02 Oct 2025) EllapsedTime: 40.8 seconds RetCode: 0 Status: OK