Package: scCB2 Version: 1.19.0 Command: /home/biocbuild/bbs-3.22-bioc/R/bin/R CMD build --keep-empty-dirs --no-resave-data --md5 scCB2 StartedAt: 2025-10-02 19:50:17 -0400 (Thu, 02 Oct 2025) EndedAt: 2025-10-02 19:54:02 -0400 (Thu, 02 Oct 2025) EllapsedTime: 225.2 seconds RetCode: 0 Status: OK PackageFile: scCB2_1.19.0.tar.gz PackageFileSize: 848 KiB