Package: scBubbletree Version: 1.11.0 Command: /home/biocbuild/bbs-3.22-bioc/R/bin/R CMD check --install=check:scBubbletree.install-out.txt --library=/home/biocbuild/bbs-3.22-bioc/R/site-library --timings scBubbletree_1.11.0.tar.gz StartedAt: 2025-10-04 03:51:12 -0400 (Sat, 04 Oct 2025) EndedAt: 2025-10-04 04:06:57 -0400 (Sat, 04 Oct 2025) EllapsedTime: 944.2 seconds RetCode: 0 Status: OK CheckDir: scBubbletree.Rcheck Warnings: 0