Package: scBubbletree Version: 1.13.0 Command: /home/biocbuild/bbs-3.23-bioc/R/bin/R CMD build --keep-empty-dirs --no-resave-data scBubbletree StartedAt: 2025-11-13 19:49:42 -0500 (Thu, 13 Nov 2025) EndedAt: 2025-11-13 19:54:54 -0500 (Thu, 13 Nov 2025) EllapsedTime: 312.3 seconds RetCode: 0 Status: OK PackageFile: scBubbletree_1.13.0.tar.gz PackageFileSize: 4.646 MiB