Package: sampleClassifier Version: 1.35.0 Command: /home/biocbuild/bbs-3.23-bioc/R/bin/R CMD INSTALL sampleClassifier StartedAt: 2025-11-06 15:28:36 -0500 (Thu, 06 Nov 2025) EndedAt: 2025-11-06 15:28:52 -0500 (Thu, 06 Nov 2025) EllapsedTime: 15.9 seconds RetCode: 0 Status: OK