Package: sampleClassifier Version: 1.35.0 Command: /home/biocbuild/bbs-3.23-bioc/R/bin/R CMD build --keep-empty-dirs --no-resave-data sampleClassifier StartedAt: 2025-11-06 19:39:52 -0500 (Thu, 06 Nov 2025) EndedAt: 2025-11-06 19:41:54 -0500 (Thu, 06 Nov 2025) EllapsedTime: 122.1 seconds RetCode: 0 Status: OK PackageFile: sampleClassifier_1.35.0.tar.gz PackageFileSize: 238.8 KiB