Package: safe Version: 3.49.0 Command: /home/biocbuild/bbs-3.22-bioc/R/bin/R CMD INSTALL safe StartedAt: 2025-10-22 15:57:59 -0400 (Wed, 22 Oct 2025) EndedAt: 2025-10-22 15:58:13 -0400 (Wed, 22 Oct 2025) EllapsedTime: 14.6 seconds RetCode: 0 Status: OK