Package: safe Version: 3.49.0 Command: /home/biocbuild/bbs-3.22-bioc/R/bin/R CMD build --keep-empty-dirs --no-resave-data --md5 safe StartedAt: 2025-10-23 19:49:55 -0400 (Thu, 23 Oct 2025) EndedAt: 2025-10-23 19:53:30 -0400 (Thu, 23 Oct 2025) EllapsedTime: 215.2 seconds RetCode: 0 Status: OK PackageFile: safe_3.49.0.tar.gz PackageFileSize: 715.3 KiB