Package: sSeq Version: 1.47.0 Command: /home/biocbuild/bbs-3.22-bioc/R/bin/R CMD INSTALL sSeq StartedAt: 2025-10-08 15:15:39 -0400 (Wed, 08 Oct 2025) EndedAt: 2025-10-08 15:15:49 -0400 (Wed, 08 Oct 2025) EllapsedTime: 9.5 seconds RetCode: 0 Status: OK