Package: sSeq Version: 1.47.0 Command: /home/biocbuild/bbs-3.22-bioc/R/bin/R CMD build --keep-empty-dirs --no-resave-data --md5 sSeq StartedAt: 2025-10-08 20:44:22 -0400 (Wed, 08 Oct 2025) EndedAt: 2025-10-08 20:45:27 -0400 (Wed, 08 Oct 2025) EllapsedTime: 65.1 seconds RetCode: 0 Status: OK PackageFile: sSeq_1.47.0.tar.gz PackageFileSize: 4.203 MiB