Package: rnaEditr Version: 1.19.2 Command: /home/biocbuild/bbs-3.22-bioc/R/bin/R CMD INSTALL rnaEditr StartedAt: 2025-10-22 15:42:14 -0400 (Wed, 22 Oct 2025) EndedAt: 2025-10-22 15:42:51 -0400 (Wed, 22 Oct 2025) EllapsedTime: 37.1 seconds RetCode: 0 Status: OK