Package: rfaRm Version: 1.21.0 Command: /home/biocbuild/bbs-3.22-bioc/R/bin/R CMD build --keep-empty-dirs --no-resave-data --md5 rfaRm StartedAt: 2025-09-29 19:53:24 -0400 (Mon, 29 Sep 2025) EndedAt: 2025-09-29 19:54:26 -0400 (Mon, 29 Sep 2025) EllapsedTime: 62.1 seconds RetCode: 1 Status: ERROR PackageFile: None PackageFileSize: NA