Package: rfPred Version: 1.47.1 Command: /home/biocbuild/bbs-3.22-bioc/R/bin/R CMD INSTALL rfPred StartedAt: 2025-10-03 15:15:36 -0400 (Fri, 03 Oct 2025) EndedAt: 2025-10-03 15:15:46 -0400 (Fri, 03 Oct 2025) EllapsedTime: 10.7 seconds RetCode: 0 Status: OK