Package: randRotation Version: 1.23.0 Command: /Library/Frameworks/R.framework/Resources/bin/R CMD INSTALL randRotation StartedAt: 2025-11-26 15:11:11 -0500 (Wed, 26 Nov 2025) EndedAt: 2025-11-26 15:11:39 -0500 (Wed, 26 Nov 2025) EllapsedTime: 27.7 seconds RetCode: 0 Status: OK