Package: randRotation Version: 1.23.0 Command: /Library/Frameworks/R.framework/Resources/bin/R CMD build --keep-empty-dirs --no-resave-data randRotation StartedAt: 2025-11-26 18:18:11 -0500 (Wed, 26 Nov 2025) EndedAt: 2025-11-26 18:20:28 -0500 (Wed, 26 Nov 2025) EllapsedTime: 137.4 seconds RetCode: 0 Status: OK PackageFile: randRotation_1.23.0.tar.gz PackageFileSize: 973.7 KiB