Package: randRotation Version: 1.23.0 Command: /Library/Frameworks/R.framework/Resources/bin/R CMD INSTALL randRotation StartedAt: 2025-11-18 15:12:55 -0500 (Tue, 18 Nov 2025) EndedAt: 2025-11-18 15:13:04 -0500 (Tue, 18 Nov 2025) EllapsedTime: 9.3 seconds RetCode: 0 Status: OK