Package: randRotation Version: 1.23.0 Command: /Library/Frameworks/R.framework/Resources/bin/R CMD build --keep-empty-dirs --no-resave-data randRotation StartedAt: 2025-11-18 17:33:18 -0500 (Tue, 18 Nov 2025) EndedAt: 2025-11-18 17:33:59 -0500 (Tue, 18 Nov 2025) EllapsedTime: 40.5 seconds RetCode: 1 Status: ERROR PackageFile: None PackageFileSize: NA