Package: ramr Version: 1.17.1 Command: /home/biocbuild/bbs-3.22-bioc/R/bin/R CMD INSTALL ramr StartedAt: 2025-10-03 15:14:10 -0400 (Fri, 03 Oct 2025) EndedAt: 2025-10-03 15:15:09 -0400 (Fri, 03 Oct 2025) EllapsedTime: 59.2 seconds RetCode: 0 Status: OK