Package: r3Cseq Version: 1.57.0 Command: /Library/Frameworks/R.framework/Resources/bin/R CMD INSTALL r3Cseq StartedAt: 2025-11-20 15:34:59 -0500 (Thu, 20 Nov 2025) EndedAt: 2025-11-20 15:35:57 -0500 (Thu, 20 Nov 2025) EllapsedTime: 57.2 seconds RetCode: 0 Status: OK