Package: r3Cseq Version: 1.57.0 Command: /Library/Frameworks/R.framework/Resources/bin/R CMD build --keep-empty-dirs --no-resave-data r3Cseq StartedAt: 2025-11-20 18:18:53 -0500 (Thu, 20 Nov 2025) EndedAt: 2025-11-20 18:21:01 -0500 (Thu, 20 Nov 2025) EllapsedTime: 128.1 seconds RetCode: 0 Status: OK PackageFile: r3Cseq_1.57.0.tar.gz PackageFileSize: 4.325 MiB