Package: r3Cseq Version: 1.57.0 Command: /Library/Frameworks/R.framework/Resources/bin/R CMD INSTALL r3Cseq StartedAt: 2025-11-17 15:17:41 -0500 (Mon, 17 Nov 2025) EndedAt: 2025-11-17 15:17:58 -0500 (Mon, 17 Nov 2025) EllapsedTime: 17.0 seconds RetCode: 0 Status: OK