Package: r3Cseq Version: 1.57.0 Command: /Library/Frameworks/R.framework/Resources/bin/R CMD build --keep-empty-dirs --no-resave-data r3Cseq StartedAt: 2025-11-17 18:13:53 -0500 (Mon, 17 Nov 2025) EndedAt: 2025-11-17 18:14:49 -0500 (Mon, 17 Nov 2025) EllapsedTime: 55.7 seconds RetCode: 0 Status: OK PackageFile: r3Cseq_1.57.0.tar.gz PackageFileSize: 4.327 MiB