Package: qvalue Version: 2.41.0 Command: /home/biocbuild/bbs-3.22-bioc/R/bin/R CMD INSTALL qvalue StartedAt: 2025-10-06 15:07:20 -0400 (Mon, 06 Oct 2025) EndedAt: 2025-10-06 15:07:32 -0400 (Mon, 06 Oct 2025) EllapsedTime: 12.2 seconds RetCode: 0 Status: OK