Package: qvalue Version: 2.41.0 Command: /home/biocbuild/bbs-3.22-bioc/R/bin/R CMD build --keep-empty-dirs --no-resave-data --md5 qvalue StartedAt: 2025-10-06 19:27:30 -0400 (Mon, 06 Oct 2025) EndedAt: 2025-10-06 19:27:44 -0400 (Mon, 06 Oct 2025) EllapsedTime: 14.0 seconds RetCode: 0 Status: OK PackageFile: qvalue_2.41.0.tar.gz PackageFileSize: 2.647 MiB