Package: qusage Version: 2.43.0 Command: /home/biocbuild/bbs-3.22-bioc/R/bin/R CMD INSTALL qusage StartedAt: 2025-09-30 15:12:41 -0400 (Tue, 30 Sep 2025) EndedAt: 2025-09-30 15:12:50 -0400 (Tue, 30 Sep 2025) EllapsedTime: 9.1 seconds RetCode: 0 Status: OK