Package: qpgraph Version: 2.43.1 Command: /home/biocbuild/bbs-3.22-bioc/R/bin/R CMD INSTALL qpgraph StartedAt: 2025-10-06 15:42:19 -0400 (Mon, 06 Oct 2025) EndedAt: 2025-10-06 15:43:12 -0400 (Mon, 06 Oct 2025) EllapsedTime: 52.5 seconds RetCode: 0 Status: OK