Package: qmtools Version: 1.13.0 Command: /home/biocbuild/bbs-3.22-bioc/R/bin/R CMD INSTALL qmtools StartedAt: 2025-09-30 15:18:54 -0400 (Tue, 30 Sep 2025) EndedAt: 2025-09-30 15:19:18 -0400 (Tue, 30 Sep 2025) EllapsedTime: 23.9 seconds RetCode: 0 Status: OK